Package: arrayMvout Version: 1.66.0 Command: /Library/Frameworks/R.framework/Resources/bin/R CMD build --keep-empty-dirs --no-resave-data arrayMvout StartedAt: 2025-07-21 17:02:32 -0400 (Mon, 21 Jul 2025) EndedAt: 2025-07-21 17:04:51 -0400 (Mon, 21 Jul 2025) EllapsedTime: 138.6 seconds RetCode: 0 Status: OK PackageFile: arrayMvout_1.66.0.tar.gz PackageFileSize: 692.4 KiB