Package: arrayMvout Version: 1.66.0 Command: rm -rf arrayMvout.buildbin-libdir && mkdir arrayMvout.buildbin-libdir && /Users/biocbuild/BBS/utils/build-universal.sh arrayMvout_1.66.0.tar.gz /Library/Frameworks/R.framework/Resources/bin/R arrayMvout.buildbin-libdir StartedAt: 2025-05-13 12:27:14 -0400 (Tue, 13 May 2025) EndedAt: 2025-05-13 12:28:56 -0400 (Tue, 13 May 2025) EllapsedTime: 102.1 seconds RetCode: 0 Status: OK PackageFile: arrayMvout_1.66.0.tgz PackageFileSize: 856.9 KiB