Package: arrayMvout Version: 1.66.0 Command: /Library/Frameworks/R.framework/Resources/bin/R CMD build --keep-empty-dirs --no-resave-data arrayMvout StartedAt: 2025-07-17 19:00:58 -0400 (Thu, 17 Jul 2025) EndedAt: 2025-07-17 19:02:21 -0400 (Thu, 17 Jul 2025) EllapsedTime: 82.3 seconds RetCode: 0 Status: OK PackageFile: arrayMvout_1.66.0.tar.gz PackageFileSize: 692.7 KiB