Package: aroma.light Version: 3.40.0 Command: rm -rf aroma.light.buildbin-libdir && mkdir aroma.light.buildbin-libdir && /Users/biocbuild/BBS/utils/build-universal.sh aroma.light_3.40.0.tar.gz /Library/Frameworks/R.framework/Resources/bin/R aroma.light.buildbin-libdir StartedAt: 2025-11-10 23:11:20 -0500 (Mon, 10 Nov 2025) EndedAt: 2025-11-10 23:11:22 -0500 (Mon, 10 Nov 2025) EllapsedTime: 2.1 seconds RetCode: 0 Status: OK PackageFile: aroma.light_3.40.0.tgz PackageFileSize: 608.7 KiB