Package: appreci8R Version: 1.24.0 Command: /home/biocbuild/R/R/bin/R CMD check --install=check:appreci8R.install-out.txt --library=/home/biocbuild/R/R/site-library --no-vignettes --timings appreci8R_1.24.0.tar.gz StartedAt: 2025-01-31 03:51:52 -0000 (Fri, 31 Jan 2025) EndedAt: 2025-01-31 03:59:19 -0000 (Fri, 31 Jan 2025) EllapsedTime: 446.8 seconds RetCode: 0 Status: OK CheckDir: appreci8R.Rcheck Warnings: 0