Package: appreci8R Version: 1.24.0 Command: /home/biocbuild/R/R/bin/R CMD build --keep-empty-dirs --no-resave-data appreci8R StartedAt: 2025-01-30 21:32:36 -0000 (Thu, 30 Jan 2025) EndedAt: 2025-01-30 21:35:52 -0000 (Thu, 30 Jan 2025) EllapsedTime: 196.1 seconds RetCode: 0 Status: OK PackageFile: appreci8R_1.24.0.tar.gz PackageFileSize: 1004 KiB