Package: appreci8R Version: 1.26.0 Command: /home/biocbuild/bbs-3.21-bioc/R/bin/R CMD build --keep-empty-dirs --no-resave-data appreci8R StartedAt: 2025-10-08 16:12:03 -0400 (Wed, 08 Oct 2025) EndedAt: 2025-10-08 16:14:42 -0400 (Wed, 08 Oct 2025) EllapsedTime: 159.2 seconds RetCode: 0 Status: OK PackageFile: appreci8R_1.26.0.tar.gz PackageFileSize: 1013 KiB