Package: appreci8R Version: 1.26.0 Command: /Library/Frameworks/R.framework/Resources/bin/R CMD build --keep-empty-dirs --no-resave-data appreci8R StartedAt: 2025-04-28 20:34:13 -0400 (Mon, 28 Apr 2025) EndedAt: 2025-04-28 20:39:53 -0400 (Mon, 28 Apr 2025) EllapsedTime: 339.6 seconds RetCode: 0 Status: OK PackageFile: appreci8R_1.26.0.tar.gz PackageFileSize: 1010 KiB