Package: appreci8R Version: 1.24.0 Command: rm -rf appreci8R.buildbin-libdir && mkdir appreci8R.buildbin-libdir && /Users/biocbuild/BBS/utils/build-universal.sh appreci8R_1.24.0.tar.gz /Library/Frameworks/R.framework/Resources/bin/R appreci8R.buildbin-libdir StartedAt: 2025-01-31 12:20:20 -0500 (Fri, 31 Jan 2025) EndedAt: 2025-01-31 12:23:07 -0500 (Fri, 31 Jan 2025) EllapsedTime: 166.8 seconds RetCode: 0 Status: OK PackageFile: appreci8R_1.24.0.tgz PackageFileSize: 1.458 MiB