Package: appreci8R Version: 1.26.0 Command: /Library/Frameworks/R.framework/Resources/bin/R CMD INSTALL appreci8R StartedAt: 2025-04-21 15:31:22 -0400 (Mon, 21 Apr 2025) EndedAt: 2025-04-21 15:31:57 -0400 (Mon, 21 Apr 2025) EllapsedTime: 34.8 seconds RetCode: 0 Status: OK