Package: antiProfiles Version: 1.46.0 Command: /home/biocbuild/R/R/bin/R CMD INSTALL antiProfiles StartedAt: 2025-01-30 20:08:59 -0000 (Thu, 30 Jan 2025) EndedAt: 2025-01-30 20:09:18 -0000 (Thu, 30 Jan 2025) EllapsedTime: 18.4 seconds RetCode: 0 Status: OK