Package: antiProfiles Version: 1.48.0 Command: /home/biocbuild/R/R/bin/R CMD build --keep-empty-dirs --no-resave-data antiProfiles StartedAt: 2025-10-06 22:33:33 -0000 (Mon, 06 Oct 2025) EndedAt: 2025-10-06 22:33:41 -0000 (Mon, 06 Oct 2025) EllapsedTime: 8.0 seconds RetCode: 0 Status: OK PackageFile: antiProfiles_1.48.0.tar.gz PackageFileSize: 106.8 KiB