Package: annotatr Version: 1.34.0 Command: /home/biocbuild/bbs-3.21-bioc/R/bin/R CMD INSTALL annotatr StartedAt: 2025-10-01 15:44:31 -0400 (Wed, 01 Oct 2025) EndedAt: 2025-10-01 15:45:13 -0400 (Wed, 01 Oct 2025) EllapsedTime: 41.9 seconds RetCode: 0 Status: OK