Package: annotatr Version: 1.34.0 Command: /home/biocbuild/bbs-3.21-bioc/R/bin/R CMD build --keep-empty-dirs --no-resave-data annotatr StartedAt: 2025-10-01 16:13:55 -0400 (Wed, 01 Oct 2025) EndedAt: 2025-10-01 16:15:48 -0400 (Wed, 01 Oct 2025) EllapsedTime: 113.1 seconds RetCode: 0 Status: OK PackageFile: annotatr_1.34.0.tar.gz PackageFileSize: 2.647 MiB