Package: annotatr Version: 1.34.0 Command: /Library/Frameworks/R.framework/Resources/bin/R CMD build --keep-empty-dirs --no-resave-data annotatr StartedAt: 2025-05-08 17:00:22 -0400 (Thu, 08 May 2025) EndedAt: 2025-05-08 17:04:09 -0400 (Thu, 08 May 2025) EllapsedTime: 227.1 seconds RetCode: 0 Status: OK PackageFile: annotatr_1.34.0.tar.gz PackageFileSize: 2.449 MiB