Package: annotatr Version: 1.34.0 Command: /Library/Frameworks/R.framework/Resources/bin/R CMD check --install=check:annotatr.install-out.txt --library=/Library/Frameworks/R.framework/Resources/library --no-vignettes --timings annotatr_1.34.0.tar.gz StartedAt: 2025-04-21 19:04:27 -0400 (Mon, 21 Apr 2025) EndedAt: 2025-04-21 19:10:28 -0400 (Mon, 21 Apr 2025) EllapsedTime: 361.5 seconds RetCode: 0 Status: OK CheckDir: annotatr.Rcheck Warnings: 0