Package: annotatr Version: 1.32.0 Command: /Library/Frameworks/R.framework/Resources/bin/R CMD INSTALL annotatr StartedAt: 2025-01-30 16:10:32 -0500 (Thu, 30 Jan 2025) EndedAt: 2025-01-30 16:11:21 -0500 (Thu, 30 Jan 2025) EllapsedTime: 49.5 seconds RetCode: 0 Status: OK