Package: annotatr Version: 1.32.0 Command: /Library/Frameworks/R.framework/Resources/bin/R CMD check --install=check:annotatr.install-out.txt --library=/Library/Frameworks/R.framework/Resources/library --no-vignettes --timings annotatr_1.32.0.tar.gz StartedAt: 2025-01-31 11:02:35 -0500 (Fri, 31 Jan 2025) EndedAt: 2025-01-31 11:08:41 -0500 (Fri, 31 Jan 2025) EllapsedTime: 366.2 seconds RetCode: 0 Status: OK CheckDir: annotatr.Rcheck Warnings: 0