Package: annotationTools Version: 1.82.0 Command: rm -rf annotationTools.buildbin-libdir && mkdir annotationTools.buildbin-libdir && E:\biocbuild\bbs-3.21-bioc\R\bin\R.exe CMD INSTALL --build --library=annotationTools.buildbin-libdir annotationTools_1.82.0.tar.gz StartedAt: 2025-08-15 08:45:37 -0400 (Fri, 15 Aug 2025) EndedAt: 2025-08-15 08:45:57 -0400 (Fri, 15 Aug 2025) EllapsedTime: 19.6 seconds RetCode: 0 Status: OK PackageFile: annotationTools_1.82.0.zip PackageFileSize: 398.7 KiB