Package: annotate Version: 1.88.0 Command: /home/biocbuild/R/R/bin/R CMD INSTALL annotate StartedAt: 2025-11-17 21:34:08 -0000 (Mon, 17 Nov 2025) EndedAt: 2025-11-17 21:34:30 -0000 (Mon, 17 Nov 2025) EllapsedTime: 22.6 seconds RetCode: 0 Status: OK