Package: annotate Version: 1.88.0 Command: /home/biocbuild/R/R/bin/R CMD build --keep-empty-dirs --no-resave-data annotate StartedAt: 2025-11-17 23:24:41 -0000 (Mon, 17 Nov 2025) EndedAt: 2025-11-17 23:26:08 -0000 (Mon, 17 Nov 2025) EllapsedTime: 87.0 seconds RetCode: 0 Status: OK PackageFile: annotate_1.88.0.tar.gz PackageFileSize: 1.817 MiB