Package: anndataR Version: 1.0.0 Command: /Library/Frameworks/R.framework/Resources/bin/R CMD build --keep-empty-dirs --no-resave-data anndataR StartedAt: 2025-11-10 15:37:26 -0500 (Mon, 10 Nov 2025) EndedAt: 2025-11-10 15:38:23 -0500 (Mon, 10 Nov 2025) EllapsedTime: 56.7 seconds RetCode: 0 Status: OK PackageFile: anndataR_1.0.0.tar.gz PackageFileSize: 2.097 MiB