Package: annaffy Version: 1.80.0 Command: /Library/Frameworks/R.framework/Resources/bin/R CMD build --keep-empty-dirs --no-resave-data annaffy StartedAt: 2025-10-06 17:01:00 -0400 (Mon, 06 Oct 2025) EndedAt: 2025-10-06 17:02:08 -0400 (Mon, 06 Oct 2025) EllapsedTime: 67.7 seconds RetCode: 0 Status: OK PackageFile: annaffy_1.80.0.tar.gz PackageFileSize: 315.1 KiB