Package: animalcules Version: 1.24.0 Command: /Library/Frameworks/R.framework/Resources/bin/R CMD build --keep-empty-dirs --no-resave-data animalcules StartedAt: 2025-05-12 17:39:52 -0400 (Mon, 12 May 2025) EndedAt: 2025-05-12 17:42:12 -0400 (Mon, 12 May 2025) EllapsedTime: 140.1 seconds RetCode: 0 Status: OK PackageFile: animalcules_1.24.0.tar.gz PackageFileSize: 3.314 MiB