Package: animalcules Version: 1.24.0 Command: rm -rf animalcules.buildbin-libdir && mkdir animalcules.buildbin-libdir && /Users/biocbuild/BBS/utils/build-universal.sh animalcules_1.24.0.tar.gz /Library/Frameworks/R.framework/Resources/bin/R animalcules.buildbin-libdir StartedAt: 2025-04-22 00:33:12 -0400 (Tue, 22 Apr 2025) EndedAt: 2025-04-22 00:34:01 -0400 (Tue, 22 Apr 2025) EllapsedTime: 49.1 seconds RetCode: 0 Status: OK PackageFile: animalcules_1.24.0.tgz PackageFileSize: 3.491 MiB