Package: animalcules Version: 1.24.0 Command: /home/biocbuild/R/R/bin/R CMD check --install=check:animalcules.install-out.txt --library=/home/biocbuild/R/R/site-library --no-vignettes --timings animalcules_1.24.0.tar.gz StartedAt: 2025-05-16 05:34:13 -0000 (Fri, 16 May 2025) EndedAt: 2025-05-16 05:40:11 -0000 (Fri, 16 May 2025) EllapsedTime: 357.6 seconds RetCode: 0 Status: OK CheckDir: animalcules.Rcheck Warnings: 0