Package: animalcules Version: 1.24.0 Command: /Library/Frameworks/R.framework/Resources/bin/R CMD build --keep-empty-dirs --no-resave-data animalcules StartedAt: 2025-04-21 15:37:25 -0400 (Mon, 21 Apr 2025) EndedAt: 2025-04-21 15:37:52 -0400 (Mon, 21 Apr 2025) EllapsedTime: 27.3 seconds RetCode: 0 Status: OK PackageFile: animalcules_1.24.0.tar.gz PackageFileSize: 3.324 MiB