Package: animalcules Version: 1.24.0 Command: /Library/Frameworks/R.framework/Resources/bin/R CMD INSTALL animalcules StartedAt: 2025-05-15 16:20:07 -0400 (Thu, 15 May 2025) EndedAt: 2025-05-15 16:20:45 -0400 (Thu, 15 May 2025) EllapsedTime: 37.8 seconds RetCode: 0 Status: OK