Package: anglemania Version: 1.0.0 Command: /home/biocbuild/bbs-3.22-bioc/R/bin/R CMD INSTALL anglemania StartedAt: 2025-11-25 15:47:29 -0500 (Tue, 25 Nov 2025) EndedAt: 2025-11-25 15:48:01 -0500 (Tue, 25 Nov 2025) EllapsedTime: 32.3 seconds RetCode: 0 Status: OK