Package: anglemania Version: 1.0.0 Command: /home/biocbuild/bbs-3.22-bioc/R/bin/R CMD build --keep-empty-dirs --no-resave-data --md5 anglemania StartedAt: 2025-11-25 16:39:40 -0500 (Tue, 25 Nov 2025) EndedAt: 2025-11-25 16:51:09 -0500 (Tue, 25 Nov 2025) EllapsedTime: 688.6 seconds RetCode: 0 Status: OK PackageFile: anglemania_1.0.0.tar.gz PackageFileSize: 6.814 MiB