Package: alevinQC Version: 1.22.0 Command: /home/biocbuild/R/R/bin/R CMD check --install=check:alevinQC.install-out.txt --library=/home/biocbuild/R/R/site-library --no-vignettes --timings alevinQC_1.22.0.tar.gz StartedAt: 2025-01-31 03:45:56 -0000 (Fri, 31 Jan 2025) EndedAt: 2025-01-31 03:49:25 -0000 (Fri, 31 Jan 2025) EllapsedTime: 208.3 seconds RetCode: 0 Status: OK CheckDir: alevinQC.Rcheck Warnings: 0