Package: alabaster.vcf Version: 1.8.0 Command: /Library/Frameworks/R.framework/Resources/bin/R CMD INSTALL alabaster.vcf StartedAt: 2025-05-15 16:49:57 -0400 (Thu, 15 May 2025) EndedAt: 2025-05-15 16:51:30 -0400 (Thu, 15 May 2025) EllapsedTime: 93.8 seconds RetCode: 0 Status: OK