Package: alabaster.vcf Version: 1.8.0 Command: /Library/Frameworks/R.framework/Resources/bin/R CMD check --install=check:alabaster.vcf.install-out.txt --library=/Library/Frameworks/R.framework/Resources/library --no-vignettes --timings alabaster.vcf_1.8.0.tar.gz StartedAt: 2025-05-15 23:53:37 -0400 (Thu, 15 May 2025) EndedAt: 2025-05-16 00:05:10 -0400 (Fri, 16 May 2025) EllapsedTime: 693.0 seconds RetCode: 0 Status: OK CheckDir: alabaster.vcf.Rcheck Warnings: 0