Package: alabaster.vcf Version: 1.8.0 Command: /Library/Frameworks/R.framework/Resources/bin/R CMD build --keep-empty-dirs --no-resave-data alabaster.vcf StartedAt: 2025-05-15 17:09:37 -0400 (Thu, 15 May 2025) EndedAt: 2025-05-15 17:11:46 -0400 (Thu, 15 May 2025) EllapsedTime: 128.9 seconds RetCode: 0 Status: OK PackageFile: alabaster.vcf_1.8.0.tar.gz PackageFileSize: 223 KiB