Package: alabaster.vcf Version: 1.8.0 Command: rm -rf alabaster.vcf.buildbin-libdir && mkdir alabaster.vcf.buildbin-libdir && /Users/biocbuild/BBS/utils/build-universal.sh alabaster.vcf_1.8.0.tar.gz /Library/Frameworks/R.framework/Resources/bin/R alabaster.vcf.buildbin-libdir StartedAt: 2025-05-16 12:09:37 -0400 (Fri, 16 May 2025) EndedAt: 2025-05-16 12:11:14 -0400 (Fri, 16 May 2025) EllapsedTime: 97.7 seconds RetCode: 0 Status: OK PackageFile: alabaster.vcf_1.8.0.tgz PackageFileSize: 346 KiB