Package: alabaster.vcf Version: 1.8.0 Command: /Library/Frameworks/R.framework/Resources/bin/R CMD INSTALL alabaster.vcf StartedAt: 2025-04-21 15:44:01 -0400 (Mon, 21 Apr 2025) EndedAt: 2025-04-21 15:45:02 -0400 (Mon, 21 Apr 2025) EllapsedTime: 61.3 seconds RetCode: 0 Status: OK