Package: alabaster.spatial Version: 1.6.1 Command: /home/biocbuild/R/R/bin/R CMD check --install=check:alabaster.spatial.install-out.txt --library=/home/biocbuild/R/R/site-library --no-vignettes --timings alabaster.spatial_1.6.1.tar.gz StartedAt: 2025-01-31 03:45:10 -0000 (Fri, 31 Jan 2025) EndedAt: 2025-01-31 03:49:46 -0000 (Fri, 31 Jan 2025) EllapsedTime: 275.5 seconds RetCode: 0 Status: OK CheckDir: alabaster.spatial.Rcheck Warnings: 0