Package: alabaster.spatial Version: 1.6.1 Command: F:\biocbuild\bbs-3.20-bioc\R\bin\R.exe CMD INSTALL alabaster.spatial StartedAt: 2025-01-02 16:59:06 -0500 (Thu, 02 Jan 2025) EndedAt: 2025-01-02 16:59:51 -0500 (Thu, 02 Jan 2025) EllapsedTime: 45.2 seconds RetCode: 0 Status: OK