Package: alabaster.sfe Version: 1.2.0 Command: /home/biocbuild/bbs-3.22-bioc/R/bin/R CMD INSTALL alabaster.sfe StartedAt: 2025-11-13 15:35:47 -0500 (Thu, 13 Nov 2025) EndedAt: 2025-11-13 15:36:40 -0500 (Thu, 13 Nov 2025) EllapsedTime: 53.0 seconds RetCode: 0 Status: OK