Package: alabaster.sfe Version: 1.2.0 Command: /home/biocbuild/bbs-3.22-bioc/R/bin/R CMD build --keep-empty-dirs --no-resave-data --md5 alabaster.sfe StartedAt: 2025-11-13 16:12:25 -0500 (Thu, 13 Nov 2025) EndedAt: 2025-11-13 16:14:42 -0500 (Thu, 13 Nov 2025) EllapsedTime: 137.2 seconds RetCode: 0 Status: OK PackageFile: alabaster.sfe_1.2.0.tar.gz PackageFileSize: 2.74 MiB