Package: alabaster.se Version: 1.8.0 Command: rm -rf alabaster.se.buildbin-libdir && mkdir alabaster.se.buildbin-libdir && /Users/biocbuild/BBS/utils/build-universal.sh alabaster.se_1.8.0.tar.gz /Library/Frameworks/R.framework/Resources/bin/R alabaster.se.buildbin-libdir StartedAt: 2025-04-22 00:32:48 -0400 (Tue, 22 Apr 2025) EndedAt: 2025-04-22 00:33:28 -0400 (Tue, 22 Apr 2025) EllapsedTime: 40.2 seconds RetCode: 0 Status: OK PackageFile: alabaster.se_1.8.0.tgz PackageFileSize: 304.6 KiB