Package: alabaster.schemas Version: 1.8.0 Command: /home/biocbuild/R/R/bin/R CMD check --install=check:alabaster.schemas.install-out.txt --library=/home/biocbuild/R/R/site-library --no-vignettes --timings alabaster.schemas_1.8.0.tar.gz StartedAt: 2025-05-13 05:31:11 -0000 (Tue, 13 May 2025) EndedAt: 2025-05-13 05:31:37 -0000 (Tue, 13 May 2025) EllapsedTime: 26.0 seconds RetCode: 0 Status: OK CheckDir: alabaster.schemas.Rcheck Warnings: 0