Package: alabaster.sce Version: 1.6.0 Command: /home/biocbuild/R/R/bin/R CMD check --install=check:alabaster.sce.install-out.txt --library=/home/biocbuild/R/R/site-library --no-vignettes --timings alabaster.sce_1.6.0.tar.gz StartedAt: 2025-01-31 03:44:49 -0000 (Fri, 31 Jan 2025) EndedAt: 2025-01-31 03:49:31 -0000 (Fri, 31 Jan 2025) EllapsedTime: 281.5 seconds RetCode: 0 Status: OK CheckDir: alabaster.sce.Rcheck Warnings: 0