Package: alabaster.matrix Version: 1.8.0 Command: /home/biocbuild/bbs-3.21-bioc/R/bin/R CMD build --keep-empty-dirs --no-resave-data alabaster.matrix StartedAt: 2025-10-15 16:09:00 -0400 (Wed, 15 Oct 2025) EndedAt: 2025-10-15 16:09:37 -0400 (Wed, 15 Oct 2025) EllapsedTime: 37.1 seconds RetCode: 0 Status: OK PackageFile: alabaster.matrix_1.8.0.tar.gz PackageFileSize: 274.4 KiB