Package: alabaster.mae Version: 1.6.0 Command: F:\biocbuild\bbs-3.20-bioc\R\bin\R.exe CMD INSTALL alabaster.mae StartedAt: 2025-01-02 16:58:27 -0500 (Thu, 02 Jan 2025) EndedAt: 2025-01-02 16:59:02 -0500 (Thu, 02 Jan 2025) EllapsedTime: 35.1 seconds RetCode: 0 Status: OK