Package: alabaster.files Version: 1.6.0 Command: /Library/Frameworks/R.framework/Resources/bin/R CMD check --install=check:alabaster.files.install-out.txt --library=/Library/Frameworks/R.framework/Resources/library --no-vignettes --timings alabaster.files_1.6.0.tar.gz StartedAt: 2025-05-23 11:18:25 -0400 (Fri, 23 May 2025) EndedAt: 2025-05-23 11:20:27 -0400 (Fri, 23 May 2025) EllapsedTime: 122.0 seconds RetCode: 0 Status: OK CheckDir: alabaster.files.Rcheck Warnings: 0