Package: alabaster.files Version: 1.6.0 Command: /Library/Frameworks/R.framework/Resources/bin/R CMD build --keep-empty-dirs --no-resave-data alabaster.files StartedAt: 2025-05-22 18:44:07 -0400 (Thu, 22 May 2025) EndedAt: 2025-05-22 18:44:32 -0400 (Thu, 22 May 2025) EllapsedTime: 25.2 seconds RetCode: 0 Status: OK PackageFile: alabaster.files_1.6.0.tar.gz PackageFileSize: 234.1 KiB