Package: alabaster.files Version: 1.6.0 Maintainer: Aaron Lun MaintainerEmail: infinite.monkeys.with.keyboards at gmail.com git_url: https://git.bioconductor.org/packages/alabaster.files git_branch: RELEASE_3_21 git_last_commit: c7480ac git_last_commit_date: 2025-04-15 13:17:35 -0400 (Tue, 15 Apr 2025)