Package: alabaster.base Version: 1.6.1 Command: /home/biocbuild/R/R/bin/R CMD check --install=check:alabaster.base.install-out.txt --library=/home/biocbuild/R/R/site-library --no-vignettes --timings alabaster.base_1.6.1.tar.gz StartedAt: 2025-01-31 03:44:38 -0000 (Fri, 31 Jan 2025) EndedAt: 2025-01-31 03:47:38 -0000 (Fri, 31 Jan 2025) EllapsedTime: 180.4 seconds RetCode: 0 Status: WARNINGS CheckDir: alabaster.base.Rcheck Warnings: 1