Package: alabaster.base Version: 1.8.0 Command: /Library/Frameworks/R.framework/Resources/bin/R CMD INSTALL alabaster.base StartedAt: 2025-04-21 15:13:35 -0400 (Mon, 21 Apr 2025) EndedAt: 2025-04-21 15:15:08 -0400 (Mon, 21 Apr 2025) EllapsedTime: 93.0 seconds RetCode: 0 Status: OK